BEGIN:VCALENDAR
VERSION:2.0
PRODID:-//Ondernemerplein-Spanje - ECPv6.15.14//NONSGML v1.0//EN
CALSCALE:GREGORIAN
METHOD:PUBLISH
X-WR-CALNAME:Ondernemerplein-Spanje
X-ORIGINAL-URL:https://www.ondernemersplein-spanje.nl
X-WR-CALDESC:Evenementen voor Ondernemerplein-Spanje
REFRESH-INTERVAL;VALUE=DURATION:PT1H
X-Robots-Tag:noindex
X-PUBLISHED-TTL:PT1H
BEGIN:VTIMEZONE
TZID:Europe/Amsterdam
BEGIN:DAYLIGHT
TZOFFSETFROM:+0100
TZOFFSETTO:+0200
TZNAME:CEST
DTSTART:20250330T010000
END:DAYLIGHT
BEGIN:STANDARD
TZOFFSETFROM:+0200
TZOFFSETTO:+0100
TZNAME:CET
DTSTART:20251026T010000
END:STANDARD
BEGIN:DAYLIGHT
TZOFFSETFROM:+0100
TZOFFSETTO:+0200
TZNAME:CEST
DTSTART:20260329T010000
END:DAYLIGHT
BEGIN:STANDARD
TZOFFSETFROM:+0200
TZOFFSETTO:+0100
TZNAME:CET
DTSTART:20261025T010000
END:STANDARD
BEGIN:DAYLIGHT
TZOFFSETFROM:+0100
TZOFFSETTO:+0200
TZNAME:CEST
DTSTART:20270328T010000
END:DAYLIGHT
BEGIN:STANDARD
TZOFFSETFROM:+0200
TZOFFSETTO:+0100
TZNAME:CET
DTSTART:20271031T010000
END:STANDARD
END:VTIMEZONE
BEGIN:VEVENT
DTSTART;TZID=Europe/Amsterdam:20260123T183000
DTEND;TZID=Europe/Amsterdam:20260123T233000
DTSTAMP:20260421T211026
CREATED:20251211T091004Z
LAST-MODIFIED:20260120T100739Z
UID:10000467-1769193000-1769211000@www.ondernemersplein-spanje.nl
SUMMARY:Algemene Ledenvergadering & Nieuwjaarsfeest 2026
DESCRIPTION:We beginnen het jaar met een avond die precies laat zien waar we als club voor staan: eerst de inhoud\, daarna het genieten. Tijdens de ledenvergadering kijken we scherp vooruit naar 2026 en zorgen we dat iedereen weer op één lijn zit. \nDaarna schakelen we moeiteloos door naar het feestelijke deel: een borrel\, een goed diner en een avond die vanzelf gezellig wordt. En dat alles in een van de mooiste locaties van de stad: het iconische Only You Hotel\, waar we opnieuw een plek van topniveau hebben kunnen regelen. \nProgramma \n\n18.30 – ledenvergadering\n20.00 – nieuwjaarsdiner\n\nPrijzen \n\nLeden: gratis\nIntroducés & niet-leden: €120 p.p.\nPartners van leden: €60 p.p.\n\nMeld je aan via deze link
URL:https://www.ondernemersplein-spanje.nl/evenementen/algemene-ledenvergadering-nieuwjaarsfeest-2026/
LOCATION:Only You Hotel\, Plaça de Rodrigo Botet 5\, Valencia\, 46002\, Spain
CATEGORIES:Netwerk bijeenkomst
ATTACH;FMTTYPE=image/jpeg:https://www.ondernemersplein-spanje.nl/wp-content/uploads/2025/09/Zakenkring-Valencia-1-e1756909975869.jpeg
END:VEVENT
END:VCALENDAR