BEGIN:VCALENDAR
VERSION:2.0
PRODID:-//Ondernemerplein-Spanje - ECPv6.15.14//NONSGML v1.0//EN
CALSCALE:GREGORIAN
METHOD:PUBLISH
X-ORIGINAL-URL:https://www.ondernemersplein-spanje.nl
X-WR-CALDESC:Evenementen voor Ondernemerplein-Spanje
REFRESH-INTERVAL;VALUE=DURATION:PT1H
X-Robots-Tag:noindex
X-PUBLISHED-TTL:PT1H
BEGIN:VTIMEZONE
TZID:Europe/Amsterdam
BEGIN:DAYLIGHT
TZOFFSETFROM:+0100
TZOFFSETTO:+0200
TZNAME:CEST
DTSTART:20250330T010000
END:DAYLIGHT
BEGIN:STANDARD
TZOFFSETFROM:+0200
TZOFFSETTO:+0100
TZNAME:CET
DTSTART:20251026T010000
END:STANDARD
BEGIN:DAYLIGHT
TZOFFSETFROM:+0100
TZOFFSETTO:+0200
TZNAME:CEST
DTSTART:20260329T010000
END:DAYLIGHT
BEGIN:STANDARD
TZOFFSETFROM:+0200
TZOFFSETTO:+0100
TZNAME:CET
DTSTART:20261025T010000
END:STANDARD
BEGIN:DAYLIGHT
TZOFFSETFROM:+0100
TZOFFSETTO:+0200
TZNAME:CEST
DTSTART:20270328T010000
END:DAYLIGHT
BEGIN:STANDARD
TZOFFSETFROM:+0200
TZOFFSETTO:+0100
TZNAME:CET
DTSTART:20271031T010000
END:STANDARD
END:VTIMEZONE
BEGIN:VEVENT
DTSTART;TZID=Europe/Amsterdam:20260115T180000
DTEND;TZID=Europe/Amsterdam:20260115T220000
DTSTAMP:20260421T195011
CREATED:20251211T092804Z
LAST-MODIFIED:20260106T120934Z
UID:10000468-1768500000-1768514400@www.ondernemersplein-spanje.nl
SUMMARY:Nieuwjaarsreceptie 2026
DESCRIPTION:We starten het nieuwe jaar graag samen – met inspirerende gesprekken\, nieuwe ontmoetingen en een gezellige borrel met uitzicht op een ondernemend 2026. \n  \nOp donderdag 15 januari nodigen wij onze leden en geïnteresseerde Nederlandstalige ondernemers uit voor de eerste bijeenkomst van het jaar in Calpe. \n  \nEen mooie gelegenheid om elkaar weer te zien\, plannen te delen en nieuwe verbindingen te leggen. \nLocatie: De Nederlands Vlaamse Vereniging Calpe \nHapjes & drankjes zijn inbegrepen. \nToegang: \nGratis voor leden \n€30 voor niet-leden en introducees \n  \nWe kijken ernaar uit het jaar samen af te trappen — in de vertrouwde sfeer waarin kennis\, ervaringen en kansen worden gedeeld. Want: Samen weten we meer – Samen kunnen we meer – Samen verdienen we meer! \n  \nLaat je het ons weten als je erbij bent? Wij verheugen ons op een inspirerende avond in Calpe! \nHier de link om je aan te melden
URL:https://www.ondernemersplein-spanje.nl/evenementen/nieuwjaarsreceptie-2026/
LOCATION:Nederlandstalige Vlaamse Vereniging Calpe\, Carrer Tramuntana\, 4\, 14\,\, Calpe\, 03710\, Spain
CATEGORIES:Netwerk bijeenkomst
ATTACH;FMTTYPE=image/png:https://www.ondernemersplein-spanje.nl/wp-content/uploads/2025/11/nbccb.png
END:VEVENT
END:VCALENDAR