BEGIN:VCALENDAR
VERSION:2.0
PRODID:-//Ondernemerplein-Spanje - ECPv6.15.14//NONSGML v1.0//EN
CALSCALE:GREGORIAN
METHOD:PUBLISH
X-ORIGINAL-URL:https://www.ondernemersplein-spanje.nl
X-WR-CALDESC:Evenementen voor Ondernemerplein-Spanje
REFRESH-INTERVAL;VALUE=DURATION:PT1H
X-Robots-Tag:noindex
X-PUBLISHED-TTL:PT1H
BEGIN:VTIMEZONE
TZID:Europe/Amsterdam
BEGIN:DAYLIGHT
TZOFFSETFROM:+0100
TZOFFSETTO:+0200
TZNAME:CEST
DTSTART:20250330T010000
END:DAYLIGHT
BEGIN:STANDARD
TZOFFSETFROM:+0200
TZOFFSETTO:+0100
TZNAME:CET
DTSTART:20251026T010000
END:STANDARD
BEGIN:DAYLIGHT
TZOFFSETFROM:+0100
TZOFFSETTO:+0200
TZNAME:CEST
DTSTART:20260329T010000
END:DAYLIGHT
BEGIN:STANDARD
TZOFFSETFROM:+0200
TZOFFSETTO:+0100
TZNAME:CET
DTSTART:20261025T010000
END:STANDARD
BEGIN:DAYLIGHT
TZOFFSETFROM:+0100
TZOFFSETTO:+0200
TZNAME:CEST
DTSTART:20270328T010000
END:DAYLIGHT
BEGIN:STANDARD
TZOFFSETFROM:+0200
TZOFFSETTO:+0100
TZNAME:CET
DTSTART:20271031T010000
END:STANDARD
END:VTIMEZONE
BEGIN:VEVENT
DTSTART;TZID=Europe/Amsterdam:20260123T180000
DTEND;TZID=Europe/Amsterdam:20260123T230000
DTSTAMP:20260422T035725
CREATED:20260115T144127Z
LAST-MODIFIED:20260115T151238Z
UID:10000471-1769191200-1769209200@www.ondernemersplein-spanje.nl
SUMMARY:Netwerk borrel Costa Blanca Noord
DESCRIPTION:Netwerk borrel\nOrganisator: VrouwenZaken Costa Blanca Noord \nTijd: 18.00 uur \nLocatie: Zetto\, Altea
URL:https://www.ondernemersplein-spanje.nl/evenementen/netwerk-borrel-costa-blanca-noord/
LOCATION:Zetto\, Altea\, Passeig del Mediterrani\, 1\, Altea\, Alicante\, 03590\, Spain
CATEGORIES:VrouwenZaken
ATTACH;FMTTYPE=image/png:https://www.ondernemersplein-spanje.nl/wp-content/uploads/2026/01/VrouwenZaken-Brandmark.png
ORGANIZER;CN="VrouwenZaken Spanje":MAILTO:vrouwenzakenspanje@gmail.com
END:VEVENT
END:VCALENDAR