BEGIN:VCALENDAR
VERSION:2.0
PRODID:-//Ondernemerplein-Spanje - ECPv6.15.14//NONSGML v1.0//EN
CALSCALE:GREGORIAN
METHOD:PUBLISH
X-ORIGINAL-URL:https://www.ondernemersplein-spanje.nl
X-WR-CALDESC:Evenementen voor Ondernemerplein-Spanje
REFRESH-INTERVAL;VALUE=DURATION:PT1H
X-Robots-Tag:noindex
X-PUBLISHED-TTL:PT1H
BEGIN:VTIMEZONE
TZID:Europe/Amsterdam
BEGIN:DAYLIGHT
TZOFFSETFROM:+0100
TZOFFSETTO:+0200
TZNAME:CEST
DTSTART:20250330T010000
END:DAYLIGHT
BEGIN:STANDARD
TZOFFSETFROM:+0200
TZOFFSETTO:+0100
TZNAME:CET
DTSTART:20251026T010000
END:STANDARD
BEGIN:DAYLIGHT
TZOFFSETFROM:+0100
TZOFFSETTO:+0200
TZNAME:CEST
DTSTART:20260329T010000
END:DAYLIGHT
BEGIN:STANDARD
TZOFFSETFROM:+0200
TZOFFSETTO:+0100
TZNAME:CET
DTSTART:20261025T010000
END:STANDARD
BEGIN:DAYLIGHT
TZOFFSETFROM:+0100
TZOFFSETTO:+0200
TZNAME:CEST
DTSTART:20270328T010000
END:DAYLIGHT
BEGIN:STANDARD
TZOFFSETFROM:+0200
TZOFFSETTO:+0100
TZNAME:CET
DTSTART:20271031T010000
END:STANDARD
END:VTIMEZONE
BEGIN:VEVENT
DTSTART;TZID=Europe/Amsterdam:20260127T193000
DTEND;TZID=Europe/Amsterdam:20260127T203000
DTSTAMP:20260422T025151
CREATED:20260116T105753Z
LAST-MODIFIED:20260116T105913Z
UID:10000472-1769542200-1769545800@www.ondernemersplein-spanje.nl
SUMMARY:Monthly Online Check-in
DESCRIPTION:Vanaf nu zetten we bij VrouwenZaken Malaga een vast moment in de agenda:\n \n\nElke laatste dinsdag van de maand\n19:30 – 20:30 uur\nOnline Check-in \n\nGewoon even een momentje puur ter verbinding\, met elkaar\, met de hub.  \n\nHoe gaat het met je? \nWaar sta je?\nWat gaat goed\, wat gaat minder? \nHeb je hulp nodig? En zo ja\, kan iemand uit de hub je misschien helpen?\n\nZie het als een warm incheckmoment met gelijkgestemden\, met volop ruimte voor jou.\nOndernemen is prachtig\, maar soms ook gewoon veel. En dan is het fijn als je je verhaal kunt doen en wie weet\, kom je weer op nieuwe ideeën! \nWil je erbij zijn? Stuur ons een DM\, dan sturen we je de link. \nEn: nodig gerust een andere Nederlandstalige ondernemer uit Malaga/omgeving uit die dit ook kan gebruiken. \nLiefs\,\nShisei Holwerda en Jolien van der Post
URL:https://www.ondernemersplein-spanje.nl/evenementen/monthly-online-check-in/
LOCATION:online
CATEGORIES:VrouwenZaken Hub
ATTACH;FMTTYPE=image/png:https://www.ondernemersplein-spanje.nl/wp-content/uploads/2026/01/Scherm­afbeelding-2026-01-16-om-11.57.10.png
ORGANIZER;CN="VrouwenZaken Spanje":MAILTO:vrouwenzakenspanje@gmail.com
END:VEVENT
END:VCALENDAR