BEGIN:VCALENDAR
VERSION:2.0
PRODID:-//Ondernemerplein-Spanje - ECPv6.15.14//NONSGML v1.0//EN
CALSCALE:GREGORIAN
METHOD:PUBLISH
X-ORIGINAL-URL:https://www.ondernemersplein-spanje.nl
X-WR-CALDESC:Evenementen voor Ondernemerplein-Spanje
REFRESH-INTERVAL;VALUE=DURATION:PT1H
X-Robots-Tag:noindex
X-PUBLISHED-TTL:PT1H
BEGIN:VTIMEZONE
TZID:Europe/Amsterdam
BEGIN:DAYLIGHT
TZOFFSETFROM:+0100
TZOFFSETTO:+0200
TZNAME:CEST
DTSTART:20240331T010000
END:DAYLIGHT
BEGIN:STANDARD
TZOFFSETFROM:+0200
TZOFFSETTO:+0100
TZNAME:CET
DTSTART:20241027T010000
END:STANDARD
BEGIN:DAYLIGHT
TZOFFSETFROM:+0100
TZOFFSETTO:+0200
TZNAME:CEST
DTSTART:20250330T010000
END:DAYLIGHT
BEGIN:STANDARD
TZOFFSETFROM:+0200
TZOFFSETTO:+0100
TZNAME:CET
DTSTART:20251026T010000
END:STANDARD
BEGIN:DAYLIGHT
TZOFFSETFROM:+0100
TZOFFSETTO:+0200
TZNAME:CEST
DTSTART:20260329T010000
END:DAYLIGHT
BEGIN:STANDARD
TZOFFSETFROM:+0200
TZOFFSETTO:+0100
TZNAME:CET
DTSTART:20261025T010000
END:STANDARD
END:VTIMEZONE
BEGIN:VEVENT
DTSTART;TZID=Europe/Amsterdam:20251110T193000
DTEND;TZID=Europe/Amsterdam:20251110T203000
DTSTAMP:20260419T201239
CREATED:20251008T142857Z
LAST-MODIFIED:20251008T143100Z
UID:10000459-1762803000-1762806600@www.ondernemersplein-spanje.nl
SUMMARY:Online Netwerk Speeddaten - 10 November
DESCRIPTION:Leer Andere Nederlandstalige Ondernemers in Spanje Kennen met ons Online Netwerk Speeddating Event\nTwee keer knipperen en het is alweer November. We gaan dit jaar nog één keer online netwerken! \nDoe mee aan het laatste Online Netwerk Speeddating Event van het jaar en ontmoet andere Nederlandstalige ondernemers in Spanje.\nEen inspirerende en laagdrempelige manier om nieuwe contacten te leggen\, samenwerkingen te ontdekken of gewoon ideeën uit te wisselen — en dat allemaal vanuit je woonkamer\, kantoor of zonnige terras via Zoom. \nWaarom meedoen?\nOf je nu al lid bent of ons platform pas net hebt ontdekt: dit event is voor iedereen toegankelijk. Tijdens het online speeddaten word je ingedeeld in kleine “vergaderruimtes”\, waar je kort en krachtig je verhaal kunt doen. Wie ben je\, wat doe je\, en wat zoek je? Dit doen we een aantal keer\, en na een uur heb je een hoop nieuwe contacten! \nNog geen lid van Ondernemersplein-Spanje?\nGeen probleem! Als niet-lid kun je deelnemen voor slechts €5\,-. Word je binnen 7 dagen na het event lid? Dan krijg je dit bedrag terug als korting op je lidmaatschap.Als betalend lid van Ondernemersplein-Spanje kun je natuurlijk gratis meedoen. \nHoe doe je mee?\n\nLid? Log in en klik op RSVP — je staat direct op de deelnemerslijst.\nNog geen lid? Koop eenvoudig je ticket van €5\,- via onze website.\n\nJe ontvangt een mail met daarin de Zoom-link. Sla deze op in je agenda! \n  \nDoe mee en geef je netwerk een frisse boost! \nWil jij direct lid worden van Ondernemersplein-Spanje.nl? Registreer je dan hier!
URL:https://www.ondernemersplein-spanje.nl/evenementen/online-netwerk-speeddaten-10-november/
LOCATION:Online via Zoom
CATEGORIES:Netwerk bijeenkomst
ATTACH;FMTTYPE=image/jpeg:https://www.ondernemersplein-spanje.nl/wp-content/uploads/2025/10/WhatsApp-Image-2025-10-08-at-15.17.39.jpeg
ORGANIZER;CN="Ondernemersplein-Spanje":MAILTO:info@ondernemersplein-spanje.nl
END:VEVENT
END:VCALENDAR